BEGIN:VCALENDAR
VERSION:2.0
PRODID:-//ChamberMaster//Event Calendar 2.0//EN
METHOD:PUBLISH
X-PUBLISHED-TTL:P3D
REFRESH-INTERVAL:P3D
CALSCALE:GREGORIAN
BEGIN:VEVENT
DTSTART:20220209T140000Z
DTEND:20220209T150000Z
X-MICROSOFT-CDO-ALLDAYEVENT:FALSE
SUMMARY:Myanmar Roundtable with Ambassador Derek Mitchell
DESCRIPTION:Myanmar Roundtable with Amb. Derek Mitchell
X-ALT-DESC;FMTTYPE=text/html:Myanmar Roundtable with Amb. Derek Mitchell
LOCATION:Zoom
UID:e.9078.8702
SEQUENCE:3
DTSTAMP:20260422T193446Z
URL:http://usasean.memberzone.com/events/details/myanmar-roundtable-with-ambassador-derek-mitchell-8702
END:VEVENT

END:VCALENDAR
