BEGIN:VCALENDAR
VERSION:2.0
PRODID:-//ChamberMaster//Event Calendar 2.0//EN
METHOD:PUBLISH
X-PUBLISHED-TTL:P3D
REFRESH-INTERVAL:P3D
CALSCALE:GREGORIAN
BEGIN:VEVENT
DTSTART;VALUE=DATE:20150517
DTEND;VALUE=DATE:20150518
TRANSP:TRANSPARENT
X-MICROSOFT-CDO-ALLDAYEVENT:TRUE
SUMMARY:Myanmar Quick Wins Launch
DESCRIPTION:Quick Wins Launch
X-ALT-DESC;FMTTYPE=text/html:Quick Wins Launch
LOCATION:Yangon
UID:e.9078.1575
SEQUENCE:3
DTSTAMP:20260419T134844Z
URL:http://usasean.memberzone.com/events/details/myanmar-quick-wins-launch-05-17-2015-1575
END:VEVENT

END:VCALENDAR
