BEGIN:VCALENDAR
VERSION:2.0
PRODID:-//ChamberMaster//Event Calendar 2.0//EN
METHOD:PUBLISH
X-PUBLISHED-TTL:P3D
REFRESH-INTERVAL:P3D
CALSCALE:GREGORIAN
BEGIN:VEVENT
DTSTART:20150430T133000Z
DTEND:20150430T143000Z
X-MICROSOFT-CDO-ALLDAYEVENT:FALSE
SUMMARY:Myanmar Energy and Electrification Briefing
DESCRIPTION:A briefing with Keith Rabin\, President KWR International
X-ALT-DESC;FMTTYPE=text/html:A briefing with Keith Rabin\, President KWR International&nbsp\;&nbsp\;&nbsp\;
LOCATION:US-ASEAN Business Council Offices 1101 17th st NW\, Suite 411
UID:e.9078.1541
SEQUENCE:3
DTSTAMP:20260419T153052Z
URL:http://usasean.memberzone.com/events/details/myanmar-energy-and-electrification-briefing-04-30-2015-1541
END:VEVENT

END:VCALENDAR
