BEGIN:VCALENDAR
VERSION:2.0
PRODID:-//ChamberMaster//Event Calendar 2.0//EN
METHOD:PUBLISH
X-PUBLISHED-TTL:P3D
REFRESH-INTERVAL:P3D
CALSCALE:GREGORIAN
BEGIN:VEVENT
DTSTART:20180410T013000Z
DTEND:20180410T023000Z
X-MICROSOFT-CDO-ALLDAYEVENT:FALSE
SUMMARY:Myanmar Committee Call with Ambassador Scot Marciel
DESCRIPTION:Please join us for a committee call with the Hon. Scot Marciel\, U.S. Ambassador to Myanmar. During the call\, the Ambassador will update us on political and economic developments in the US-Myanmar relationship. We will also go over the 2018 Myanmar Committee Work Plan
X-ALT-DESC;FMTTYPE=text/html:Please join us for a committee call with the Hon. Scot Marciel\, U.S. Ambassador to Myanmar.&nbsp\;<span style="font-family:calibri\,sans-serif\;"><span style="font-size:11.0pt\;">During the call\, the Ambassador will update us on political and economic developments in the US-Myanmar relationship. We will also go over the 2018 Myanmar Committee Work Plan</span></span>
LOCATION:
UID:e.9078.6512
SEQUENCE:3
DTSTAMP:20260419T204012Z
URL:http://usasean.memberzone.com/events/details/myanmar-committee-call-with-ambassador-scot-marciel-6512
END:VEVENT

END:VCALENDAR
