BEGIN:VCALENDAR
VERSION:2.0
PRODID:-//ChamberMaster//Event Calendar 2.0//EN
METHOD:PUBLISH
X-PUBLISHED-TTL:P3D
REFRESH-INTERVAL:P3D
CALSCALE:GREGORIAN
BEGIN:VEVENT
DTSTART;VALUE=DATE:20120715
DTEND;VALUE=DATE:20120801
TRANSP:TRANSPARENT
X-MICROSOFT-CDO-ALLDAYEVENT:TRUE
SUMMARY:Myanmar Business Mission 2012 - Jul 15 2012
DESCRIPTION:
X-ALT-DESC;FMTTYPE=text/html:
LOCATION:
UID:e.9078.480
SEQUENCE:3
DTSTAMP:20260424T214701Z
URL:http://usasean.memberzone.com/events/details/myanmar-business-mission-2012-jul-15-2012-07-15-2012-480
END:VEVENT

END:VCALENDAR
