BEGIN:VCALENDAR
VERSION:2.0
PRODID:-//ChamberMaster//Event Calendar 2.0//EN
METHOD:PUBLISH
X-PUBLISHED-TTL:P3D
REFRESH-INTERVAL:P3D
CALSCALE:GREGORIAN
BEGIN:VEVENT
DTSTART:20190719T020000Z
DTEND:20190719T033000Z
X-MICROSOFT-CDO-ALLDAYEVENT:FALSE
SUMMARY:Monthly ICT Committee Meeting
DESCRIPTION:The Council to invite members to our monthly in-person ICT Committee Meeting\, taking place on Friday\, July 19\, from 10:00-11:30 AM SGT in Netflix's Singapore Office. The meeting will look to follow up on what was presented and discussed in the June 7 in-person ICT Committee Meeting\, and focus on strategy and next steps for select items that are part of the Committee's 2019 plans and priorities. In-person participation is encouraged\, but a dial-in option will be provided. \n\n\n\nPlease contact Jamie Lim (jlim@usasean.org) or Ella Duangkaew (eduangkaew@usasean.org) with any questions.
X-ALT-DESC;FMTTYPE=text/html:The Council to invite members to our monthly in-person ICT Committee Meeting\, taking place on Friday\, July 19\, from 10:00-11:30 AM SGT in Netflix&#39\;s Singapore Office. The meeting will look to follow up on what was presented and discussed in the June 7 in-person ICT Committee Meeting\, and focus on strategy and next steps for select items that are part of the Committee&#39\;s 2019 plans and priorities. In-person participation is encouraged\, but a dial-in option will be provided.&nbsp\;<br />\n<br />\nPlease contact Jamie Lim (jlim@usasean.org) or Ella Duangkaew (eduangkaew@usasean.org) with any questions.&nbsp\;
LOCATION:Netflix Singapore Office 9 Straits View Marina One West Tower\, #14-07/12 Singapore 018937
UID:e.9078.7927
SEQUENCE:3
DTSTAMP:20260425T001849Z
URL:http://usasean.memberzone.com/events/details/monthly-ict-committee-meeting-7927
END:VEVENT

END:VCALENDAR
