BEGIN:VCALENDAR
VERSION:2.0
PRODID:-//ChamberMaster//Event Calendar 2.0//EN
METHOD:PUBLISH
X-PUBLISHED-TTL:P3D
REFRESH-INTERVAL:P3D
CALSCALE:GREGORIAN
BEGIN:VEVENT
DTSTART:20140813T180000Z
DTEND:20140813T190000Z
X-MICROSOFT-CDO-ALLDAYEVENT:FALSE
SUMMARY:Members Meeting with Director of Maritime Southeast Asia Affairs\, U.S. Department of State
DESCRIPTION:Meet and greet with Mr. James Carouso\, the new Director of Maritime Southeast Asia\, U.S. Department of State\, and Ms. Rachel Cooke\, Deputy Director of Maritime Southeast Asia\, U.S. Department of State.
X-ALT-DESC;FMTTYPE=text/html:Meet and greet with Mr. James Carouso\, the new Director of Maritime Southeast Asia\, U.S. Department of State\, and Ms. Rachel Cooke\, Deputy Director of Maritime Southeast Asia\, U.S. Department of State.
LOCATION:US-ASEAN Business Council 1101 17th St. NW\, Suite 411 Washington\, DC
UID:e.9078.1214
SEQUENCE:3
DTSTAMP:20260420T074148Z
URL:http://usasean.memberzone.com/events/details/members-meeting-with-director-of-maritime-southeast-asia-affairs-u-s-department-of-state-08-13-2014-1214
END:VEVENT

END:VCALENDAR
