BEGIN:VCALENDAR
VERSION:2.0
PRODID:-//ChamberMaster//Event Calendar 2.0//EN
METHOD:PUBLISH
X-PUBLISHED-TTL:P3D
REFRESH-INTERVAL:P3D
CALSCALE:GREGORIAN
BEGIN:VEVENT
DTSTART:20130711T130000Z
DTEND:20130711T140000Z
X-MICROSOFT-CDO-ALLDAYEVENT:FALSE
SUMMARY:Members Briefing with The Honorable William E. Todd
DESCRIPTION:Ambassador William E. Todd has graciously agree to meet with Council members as part of the concluding leg of a reverse trade mission he is leading to increase U.S. investment and exports to Cambodia. This will be his first time back to the Council since his appointment in April 2012. This meeting will be an excellent opportunity for members to update him on their company's interests\, goals\, and priorities in Cambodia.  Ambassador Todd's bio can be found here.\n\n\n\nAmbassador Todd will be accompanied by representatives from AmCham Cambodia and the US Embassy in Cambodia: -\n\n1. Brett Sciaroni - Chairman\, AmCham Cambodia\n\n2. Rami Sharaf - Board member and CEO\, RMA Cambodia \n\n3. Daniel Mitchell - Board member and CEO of SRP International\n\n4. David Myers - Deputy Chief\, Pol-Econ Section\, U.S. Embassy Phnom Penh\n\n\n\nPlease RSVP by noon on Tuesday\, July 09. If you cannot attend the meeting\, please feel free to submit briefing materials on your company's activities in Cambodia or any questions to Daniel Henderson at dhenderson@usasean.org.
X-ALT-DESC;FMTTYPE=text/html:<span style="font-size:16px\;">Ambassador William E. Todd has graciously agree to meet with Council members as part of the concluding leg of a reverse trade mission he is leading to increase U.S. investment and exports to Cambodia. This will be his first time back to the Council since his appointment in April 2012. This meeting will be an excellent opportunity for members to update him on their company&#39\;s interests\, goals\, and priorities in Cambodia.&nbsp\; Ambassador Todd&#39\;s bio can be found <a href="http://cambodia.usembassy.gov/ambassador.html">here</a>.<br />\n<br />\nAmbassador Todd will be accompanied by representatives from AmCham Cambodia and the US Embassy in Cambodia: -<br />\n1. Brett Sciaroni - Chairman\, AmCham Cambodia<br />\n2. Rami Sharaf - Board member and CEO\, RMA Cambodia </span><br />\n<span style="font-size:16px\;">3. Daniel Mitchell - Board member and CEO of SRP International<br />\n4. David Myers - Deputy Chief\, Pol-Econ Section\, U.S. Embassy Phnom Penh</span><br />\n<br />\n<span style="font-size:16px\;"><strong>Please RSVP by noon on Tuesday\, July 09. </strong><span style="font-family: arial\,sans-serif\;">If you cannot attend the meeting\, please feel free to submit bri</span><span style="font-family: arial\;">efing materials on your company&#39\;s activities in Cambodia or any questions to Daniel Henderson at <span style="color: rgb(31\, 73\, 125)\;"><a href="mailto:dhenderson@usasean.org">dhenderson@usasean.org</a>. </span></span></span>
LOCATION:The US-ASEAN Business Council 1101 17th Street\, NW\, Suite 411 Washington\, DC 20036
UID:e.9078.793
SEQUENCE:3
DTSTAMP:20260421T193117Z
URL:http://usasean.memberzone.com/events/details/members-briefing-with-the-honorable-william-e-todd-07-11-2013-793
END:VEVENT

END:VCALENDAR
