BEGIN:VCALENDAR
VERSION:2.0
PRODID:-//ChamberMaster//Event Calendar 2.0//EN
METHOD:PUBLISH
X-PUBLISHED-TTL:P3D
REFRESH-INTERVAL:P3D
CALSCALE:GREGORIAN
BEGIN:VEVENT
DTSTART:20130610T190000Z
DTEND:20130610T200000Z
X-MICROSOFT-CDO-ALLDAYEVENT:FALSE
SUMMARY:Members Briefing with Patrick Murphy\, Outgoing DCM\, US Embassy Bangkok | DC
DESCRIPTION:Members Briefing\n\nwith \n\n\n\nW. Patrick Murphy\n\nOutgoing Deputy Chief of Mission\n\nU.S. Embassy Bangkok
X-ALT-DESC;FMTTYPE=text/html:<strong><span style="letter-spacing:.75pt\;"><span style="color:#333333\;"><span style="font-family:georgia\,serif\;"><span style="font-size:16.0pt\;">Members Briefing</span></span></span></span><br />\n<span style="letter-spacing:.75pt\;"><span style="color:#333333\;"><span style="font-family:georgia\,serif\;"><span style="font-size:15.0pt\;">with&nbsp\;</span></span></span></span><br />\n<br />\n<span style="letter-spacing:.75pt\;"><span style="color:#333333\;"><span style="font-family:georgia\,serif\;"><span style="font-size:18.0pt\;">W. Patrick Murphy</span></span></span></span><br />\n<span style="letter-spacing:.75pt\;"><span style="color:#333333\;"><span style="font-family:georgia\,serif\;"><span style="font-size:15.0pt\;">Outgoing Deputy Chief of Mission<br />\nU.S. Embassy Bangkok</span></span></span></span></strong>
LOCATION:US-ASEAN Business Council 1101 17th Street\, NW Suite 411 Washington\, DC
UID:e.9078.805
SEQUENCE:3
DTSTAMP:20260421T211102Z
URL:http://usasean.memberzone.com/events/details/members-briefing-with-patrick-murphy-outgoing-dcm-us-embassy-bangkok-dc-06-10-2013-805
END:VEVENT

END:VCALENDAR
