BEGIN:VCALENDAR
VERSION:2.0
PRODID:-//ChamberMaster//Event Calendar 2.0//EN
METHOD:PUBLISH
X-PUBLISHED-TTL:P3D
REFRESH-INTERVAL:P3D
CALSCALE:GREGORIAN
BEGIN:VEVENT
DTSTART;VALUE=DATE:20110810
DTEND;VALUE=DATE:20110811
TRANSP:TRANSPARENT
X-MICROSOFT-CDO-ALLDAYEVENT:TRUE
SUMMARY:Members Briefing with Ambassador David Shear\, Aug. 10\, 3:30pm\, DC - Aug 10 2011
DESCRIPTION:
X-ALT-DESC;FMTTYPE=text/html:
LOCATION:
UID:e.9078.469
SEQUENCE:3
DTSTAMP:20260426T015132Z
URL:http://usasean.memberzone.com/events/details/members-briefing-with-ambassador-david-shear-aug-10-3-30pm-dc-aug-10-2011-08-10-2011-469
END:VEVENT

END:VCALENDAR
