BEGIN:VCALENDAR
VERSION:2.0
PRODID:-//ChamberMaster//Event Calendar 2.0//EN
METHOD:PUBLISH
X-PUBLISHED-TTL:P3D
REFRESH-INTERVAL:P3D
CALSCALE:GREGORIAN
BEGIN:VEVENT
DTSTART;VALUE=DATE:20110921
DTEND;VALUE=DATE:20110922
TRANSP:TRANSPARENT
X-MICROSOFT-CDO-ALLDAYEVENT:TRUE
SUMMARY:Members' Briefing- Jim Carouso\, Sept. 21\, DC - Sep 21 2011
DESCRIPTION:
X-ALT-DESC;FMTTYPE=text/html:
LOCATION:
UID:e.9078.467
SEQUENCE:3
DTSTAMP:20260426T001149Z
URL:http://usasean.memberzone.com/events/details/members-briefing-jim-carouso-sept-21-dc-sep-21-2011-09-21-2011-467
END:VEVENT

END:VCALENDAR
