BEGIN:VCALENDAR
VERSION:2.0
PRODID:-//ChamberMaster//Event Calendar 2.0//EN
METHOD:PUBLISH
X-PUBLISHED-TTL:P3D
REFRESH-INTERVAL:P3D
CALSCALE:GREGORIAN
BEGIN:VEVENT
DTSTART:20231127T030000Z
DTEND:20231127T040000Z
X-MICROSOFT-CDO-ALLDAYEVENT:FALSE
SUMMARY:Member Dialogue on Singapore's Proposed Implementation of Pillar 2 under BEPS 2.0
DESCRIPTION:This proposed discussion will give our members the opportunity to share their views on Singapore's proposed implementation of Pillar 2 under BEPS 2.0
X-ALT-DESC;FMTTYPE=text/html:This proposed discussion will give our members the opportunity to share their views on Singapore&#39\;s proposed implementation of Pillar 2 under BEPS 2.0
LOCATION:Mastercard APAC HQ: 3 Fraser St\, Level 17\, Duo Tower\, Singapore 189352
UID:e.9078.9200
SEQUENCE:3
DTSTAMP:20260421T160345Z
URL:http://usasean.memberzone.com/events/details/member-dialogue-on-singapore-s-proposed-implementation-of-pillar-2-under-beps-2-0-9200
END:VEVENT

END:VCALENDAR
