BEGIN:VCALENDAR
VERSION:2.0
PRODID:-//ChamberMaster//Event Calendar 2.0//EN
METHOD:PUBLISH
X-PUBLISHED-TTL:P3D
REFRESH-INTERVAL:P3D
CALSCALE:GREGORIAN
BEGIN:VEVENT
DTSTART:20140212T203000Z
DTEND:20140212T213000Z
X-MICROSOFT-CDO-ALLDAYEVENT:FALSE
SUMMARY:Meeting with Vietnam's Health Minister
DESCRIPTION:Meeting with H.E. Nguyen Thi Kim Tien\,\n\nMinister of Health\, Vietnam\n\n\n\nMinister Tien has extended the offer for a courtesy call with members during her visit to the USA. She will be visiting Washington to attend the Global Health Security Agenda at the invitation of U.S. Secretary of Health and Human Services Kathleen Sebelius before traveling to Chicago for other programs. This is an excellent opportunity for Health & Life Sciences members to meet a key stakeholder and introduce your company interests in Vietnam.
X-ALT-DESC;FMTTYPE=text/html:<span style="font-size:14px\;"><strong><span style="letter-spacing: 0.75pt\;"><span style="color: rgb(51\, 51\, 51)\;"><span style="font-family: georgia\,serif\;">Meeting with H.E. Nguyen Thi Kim Tien\,<br />\nMinister of Health\, Vietnam</span></span></span></strong></span><br />\n<br />\n<span style="font-family:arial\,sans-serif\;"><span style="font-size:12.0pt\;">Minister Tien has extended the offer for a courtesy call with members during her visit to the USA. She will be visiting Washington to attend the Global Health Security Agenda at the invitation of U.S. Secretary of Health and Human Services Kathleen Sebelius before traveling to Chicago for other programs. This is an excellent opportunity for Health &amp\; Life Sciences members to meet a key stakeholder and introduce your company interests in Vietnam.</span></span>
LOCATION:Generously Hosted by: GE 1299 Pennsylvania Ave.\, NW Suite 900W Washington\, DC
UID:e.9078.1038
SEQUENCE:3
DTSTAMP:20260421T023317Z
URL:http://usasean.memberzone.com/events/details/meeting-with-vietnam-s-health-minister-02-12-2014-1038
END:VEVENT

END:VCALENDAR
