BEGIN:VCALENDAR
VERSION:2.0
PRODID:-//ChamberMaster//Event Calendar 2.0//EN
METHOD:PUBLISH
X-PUBLISHED-TTL:P3D
REFRESH-INTERVAL:P3D
CALSCALE:GREGORIAN
BEGIN:VEVENT
DTSTART:20231205T070000Z
DTEND:20231205T083000Z
X-MICROSOFT-CDO-ALLDAYEVENT:FALSE
SUMMARY:Meeting with USTDA Senior Country Manager Alissa Lee-Barden in Hanoi
DESCRIPTION:The Council is pleased to invite you to a meeting with Alissa Lee-Barden\, Senior Country Manager for the Indo-Pacific Region\, U.S. Trade and Development Agency (USTDA).
X-ALT-DESC;FMTTYPE=text/html:<span style="font-size: 16px\;">The Council is pleased to invite you to a meeting with Alissa Lee-Barden\, Senior Country Manager for the Indo-Pacific Region</span><span style="font-size: 16px\;">\, U.S. Trade and Development Agency (USTDA).</span>
LOCATION:In-person at US-ABC Hanoi Office 10th Floor\, Pacific Place\, 83B Ly Thuong Kiet\, Hoan Kiem
UID:e.9078.9219
SEQUENCE:3
DTSTAMP:20260422T003746Z
URL:http://usasean.memberzone.com/events/details/meeting-with-ustda-senior-country-manager-alissa-lee-barden-in-hanoi-9219
END:VEVENT

END:VCALENDAR
