BEGIN:VCALENDAR
VERSION:2.0
PRODID:-//ChamberMaster//Event Calendar 2.0//EN
METHOD:PUBLISH
X-PUBLISHED-TTL:P3D
REFRESH-INTERVAL:P3D
CALSCALE:GREGORIAN
BEGIN:VEVENT
DTSTART:20180309T010000Z
DTEND:20180309T030000Z
X-MICROSOFT-CDO-ALLDAYEVENT:FALSE
SUMMARY:Meeting with the Indonesian Ministry of Manpower on the USABC-Manpower Engagement Platform
DESCRIPTION:During the Indonesia Business Mission in October last year\, Manpower Minister Hanif Dhakiri offered a platform to discuss general engagement and regulatory issues faced by U.S. companies. The Council's members have been using this platform to clarify manpower regulations and to advocate for expat working permit which no longer requires the recommendation from the line ministries. Some members will also use this platform to present their programs for the Manpower Ministry's support as a key stakeholder.\n\n \n\nThe meeting will be with the Directors-General of Manpower Ministry\, led by the Secretary General\, Hery Sudharmanto. It is the formal Kick-off meeting of this platform. The meeting is to discuss challenges and opportunities with the Ministry. Please let us know if you would like to request particular Director-General to meet or if you would like to present a company program to put under the framework of cooperation with the Ministry. For more information\, please contact Desi Indrimayutri at desi@usasean.org.
X-ALT-DESC;FMTTYPE=text/html:During the Indonesia Business Mission in October last year\, Manpower Minister Hanif Dhakiri offered a platform to discuss general engagement and regulatory issues faced by U.S. companies. The Council&#39\;s members have been using this platform to clarify manpower regulations and to advocate for expat working permit which no longer requires the recommendation from the line ministries. Some members will also use this platform to present their programs for the Manpower Ministry&#39\;s support as a key stakeholder.<br />\n&nbsp\;<br />\nThe meeting will be with the Directors-General of Manpower Ministry\, led by the Secretary General\,&nbsp\;Hery Sudharmanto. It is the formal Kick-off meeting of this platform. The meeting is&nbsp\;to discuss challenges and opportunities with the&nbsp\;Ministry. Please let us know if you would like to request particular Director-General to meet or if you would like to present a company program to put under the framework of cooperation with the Ministry.&nbsp\;For more information\, please contact Desi Indrimayutri at <a href="mailto:desi@usasean.org">desi@usasean.org</a>.
LOCATION:Manpower Ministry\, Jakarta
UID:e.9078.6495
SEQUENCE:3
DTSTAMP:20260419T184623Z
URL:http://usasean.memberzone.com/events/details/meeting-with-the-indonesian-ministry-of-manpower-on-the-usabc-manpower-engagement-platform-6495
END:VEVENT

END:VCALENDAR
