BEGIN:VCALENDAR
VERSION:2.0
PRODID:-//ChamberMaster//Event Calendar 2.0//EN
METHOD:PUBLISH
X-PUBLISHED-TTL:P3D
REFRESH-INTERVAL:P3D
CALSCALE:GREGORIAN
BEGIN:VEVENT
DTSTART:20140129T140000Z
DTEND:20140129T153000Z
X-MICROSOFT-CDO-ALLDAYEVENT:FALSE
SUMMARY:Meeting with the Honorable Philip S. Goldberg\, U.S. Ambassador to the Philippines
DESCRIPTION:Meeting with the Honorable Philip S. Goldberg\, U.S. Ambassador to the Philippines
X-ALT-DESC;FMTTYPE=text/html:Meeting with the Honorable Philip S. Goldberg\, U.S. Ambassador to the Philippines
LOCATION:Coca-Cola Philippines 25/F\, Net Lima Building 5th Avenue corner 26th Street Fort Bonifacio\, Taguig City Manila
UID:e.9078.1011
SEQUENCE:3
DTSTAMP:20260421T035733Z
URL:http://usasean.memberzone.com/events/details/meeting-with-the-honorable-philip-s-goldberg-u-s-ambassador-to-the-philippines-01-29-2014-1011
END:VEVENT

END:VCALENDAR
