BEGIN:VCALENDAR
VERSION:2.0
PRODID:-//ChamberMaster//Event Calendar 2.0//EN
METHOD:PUBLISH
X-PUBLISHED-TTL:P3D
REFRESH-INTERVAL:P3D
CALSCALE:GREGORIAN
BEGIN:VEVENT
DTSTART:20181023T063000Z
DTEND:20181023T073000Z
X-MICROSOFT-CDO-ALLDAYEVENT:FALSE
SUMMARY:Meeting with Mr. Meliadi Sembiring\, Secretary of Indonesia SME Ministry
DESCRIPTION:Please join us for a meeting with Mr. Meliadi Sembiring\, the Secretary of Indonesia Ministry of Cooperative and SME. This is the Council's first formal meeting with the Ministry and an excellent opportunity for members to showase their SME development initiatives and seek opportunities to support the country's SME development agenda and priorities.\n\n\n\nMembers with active or upcoming SME development initiatives in Indonesia are encouraged to attend. Please submit your talking points and questions by noon on Friday\, October 19 (JKT) so the Ministry staff can prepare responses.\n\n\n\nRecently appointed as the Secretary of the Ministry in April 2018\, Mr. Sembirng previously held several deputy-level positions and became expert staff to the Minister in the span of 35 years.\n\n\n\nPlease contact Vinsensius Kangen at vkangen@usasean.org for more information.
X-ALT-DESC;FMTTYPE=text/html:<span style="font-family:arial\,sans-serif\;"><span style="font-size:12.0pt\;">Please join us for a meeting with Mr. Meliadi Sembiring\, the Secretary of Indonesia Ministry of Cooperative and SME. This is the Council&#39\;s first formal meeting with the Ministry and an excellent opportunity for members to showase their SME development initiatives and seek opportunities to support&nbsp\;the country&#39\;s SME development agenda and priorities.<br />\n<br />\nMembers with active or upcoming SME development initiatives in Indonesia are encouraged to attend. Please submit your talking points and questions by noon on <strong>Friday\, October 19 (JKT)</strong> so the Ministry staff can prepare responses.<br />\n<br />\nRecently appointed as the Secretary of the Ministry in April 2018\, Mr. Sembirng previously held several deputy-level positions and&nbsp\;became expert staff to the Minister&nbsp\;in the span of 35 years.<br />\n<br />\nPlease contact <strong>Vinsensius Kangen</strong> at <a href="mailto:vkangen@usasean.org">vkangen@usasean.org</a> for more information.</span></span>
LOCATION:Meeting Room Fl. 7\, Indonesia Ministry of Cooperative and SME\, Jl. H. R. Rasuna Said\, Kav 3-4\, DKI Jakarta
UID:e.9078.7720
SEQUENCE:3
DTSTAMP:20260420T070550Z
URL:http://usasean.memberzone.com/events/details/meeting-with-mr-meliadi-sembiring-secretary-of-indonesia-sme-ministry-7720
END:VEVENT

END:VCALENDAR
