BEGIN:VCALENDAR
VERSION:2.0
PRODID:-//ChamberMaster//Event Calendar 2.0//EN
METHOD:PUBLISH
X-PUBLISHED-TTL:P3D
REFRESH-INTERVAL:P3D
CALSCALE:GREGORIAN
BEGIN:VEVENT
DTSTART:20210910T010000Z
DTEND:20210910T020000Z
X-MICROSOFT-CDO-ALLDAYEVENT:FALSE
SUMMARY:Meeting with MCMC Chairman
DESCRIPTION:Virtual Discussion with\n\nDr. Fadhlullah Sahaimi Abdul Malek\n\nChairman\, Malaysian Communications &\n\nMultimedia Commission\n\n(MCMC)\n\nRegarding Potential Data Centers and\n\nCloud Service Providers Licensing Requirements\n\n\n\nWe invite our members to join us for a joint virtual discussion with the Information Technology Industry Council (ITI) and BSA | The Software Alliance to meet with MCMC Chairman Dr. Fadhlullah Suhaimi Abdul Malek. This meeting will focus on the potential adoption and application of the data centers and cloud service providers licensing requirements\, following the comments we sent last month.\n\n\n\nDr. Fadhlullah's bio can be found here
X-ALT-DESC;FMTTYPE=text/html:<div style="text-align: center\;"><strong><span style="letter-spacing:.75pt\;"><span style="color:#333333\;"><span style="font-family:arial\,sans-serif\;"><span style="font-size:16.0pt\;">Virtual Discussion with</span></span></span></span></strong></div>\n\n<div style="text-align: center\;"><strong><span style="letter-spacing:.75pt\;"><span style="color:#333333\;"><span style="font-family:calibri\,sans-serif\;"><span style="font-size:16.0pt\;">Dr. Fadhlullah Sahaimi Abdul Malek<br />\nChairman\, Malaysian Communications &amp\;<br />\nMultimedia Commission<br />\n(MCMC)</span></span></span></span><br />\n<span style="letter-spacing:.75pt\;"><span style="color:#333333\;"><span style="font-family:calibri\,sans-serif\;"><span style="font-size:13.5pt\;">Regarding Potential Data Centers and<br />\nCloud Service Providers Licensing Requirements</span></span></span></span></strong><br />\n<br />\n<span style="font-family:georgia\,serif\;"><span style="font-size:12.0pt\;">We invite our members to join us for a joint virtual discussion with the Information Technology Industry Council (ITI) and BSA | The Software Alliance to meet with MCMC Chairman Dr. Fadhlullah Suhaimi Abdul Malek. This meeting will focus on the potential adoption and application of the data centers and cloud service providers licensing requirements\, following the comments we sent last month.</span></span><br />\n<br />\n<span style="font-family:calibri\,sans-serif\;"><span style="font-size:12.0pt\;"><a href="https://www.mcmc.gov.my/ms/about-us/commission-members/ybrs-dr-fadhlullah-suhaimi-abdul-malek">Dr. Fadhlullah&#39\;s bio can be found here</a></span></span></div>\n
LOCATION:
UID:e.9078.8553
SEQUENCE:3
DTSTAMP:20260423T080905Z
URL:http://usasean.memberzone.com/events/details/meeting-with-mcmc-chairman-8553
END:VEVENT

END:VCALENDAR
