BEGIN:VCALENDAR
VERSION:2.0
PRODID:-//ChamberMaster//Event Calendar 2.0//EN
METHOD:PUBLISH
X-PUBLISHED-TTL:P3D
REFRESH-INTERVAL:P3D
CALSCALE:GREGORIAN
BEGIN:VEVENT
DTSTART:20140115T183000Z
DTEND:20140115T193000Z
X-MICROSOFT-CDO-ALLDAYEVENT:FALSE
SUMMARY:Meeting with Intellectual Property Office of the Philippines
DESCRIPTION:Allan Gepty\, Deputy Director General of IPOPHL and Ronald N. Ricketts\, Chairman and CEO of the Philippine Optical Media Board will meet with U.S. government and U.S. industry stakeholders.
X-ALT-DESC;FMTTYPE=text/html:<span style="line-height: 115%\; font-family: &quot\;Calibri&quot\;\,&quot\;sans-serif&quot\;\; font-size: 11pt\; mso-ascii-theme-font: minor-latin\; mso-fareast-font-family: Calibri\; mso-fareast-theme-font: minor-latin\; mso-hansi-theme-font: minor-latin\; mso-bidi-font-family: &quot\;Times New Roman&quot\;\; mso-bidi-theme-font: minor-bidi\; mso-ansi-language: EN-US\; mso-fareast-language: EN-US\; mso-bidi-language: AR-SA\;"><font color="#000000">Allan Gepty\, Deputy Director General of IPOPHL and Ronald N. Ricketts\, Chairman and CEO of the Philippine Optical Media Board will meet with U.S. government and U.S. industry stakeholders. </font></span>
LOCATION:US-ASEAN Business Council 1101 17th Street\, NW Suite 411 Washington\, DC 20036
UID:e.9078.1003
SEQUENCE:3
DTSTAMP:20260421T035733Z
URL:http://usasean.memberzone.com/events/details/meeting-with-intellectual-property-office-of-the-philippines-01-15-2014-1003
END:VEVENT

END:VCALENDAR
