BEGIN:VCALENDAR
VERSION:2.0
PRODID:-//ChamberMaster//Event Calendar 2.0//EN
METHOD:PUBLISH
X-PUBLISHED-TTL:P3D
REFRESH-INTERVAL:P3D
CALSCALE:GREGORIAN
BEGIN:VEVENT
DTSTART:20180731T010000Z
DTEND:20180731T020000Z
X-MICROSOFT-CDO-ALLDAYEVENT:FALSE
SUMMARY:Meeting with Indonesia Customs and Excise Director General\, Mr. Heru Pambudi
DESCRIPTION:
X-ALT-DESC;FMTTYPE=text/html:
LOCATION:Indonesia Customs Headquarter Jl. Ahmad Yani By Pass\, RT.12/RW.5\, Rawamangun\, Pulo Gadung\, Kota Jakarta Timur\, Daerah Khusus Ibukota Jakarta 13230
UID:e.9078.7638
SEQUENCE:3
DTSTAMP:20260420T015204Z
URL:http://usasean.memberzone.com/events/details/meeting-with-indonesia-customs-and-excise-director-general-mr-heru-pambudi-7638
END:VEVENT

END:VCALENDAR
