BEGIN:VCALENDAR
VERSION:2.0
PRODID:-//ChamberMaster//Event Calendar 2.0//EN
METHOD:PUBLISH
X-PUBLISHED-TTL:P3D
REFRESH-INTERVAL:P3D
CALSCALE:GREGORIAN
BEGIN:VEVENT
DTSTART:20121106T200000Z
DTEND:20121106T210000Z
X-MICROSOFT-CDO-ALLDAYEVENT:FALSE
SUMMARY:Meeting with Deputy Chief Executive of Energy Market Authority
DESCRIPTION:Meeting with Deputy Chief Executive and Delegation from Energy Market Authority of Singapore.
X-ALT-DESC;FMTTYPE=text/html:Meeting with Deputy Chief Executive and Delegation from Energy Market Authority of Singapore.&nbsp\;
LOCATION:1101 17th St. NW Suite 411 Washington\, DC 20036
UID:e.9078.627
SEQUENCE:3
DTSTAMP:20260424T160250Z
URL:http://usasean.memberzone.com/events/details/meeting-with-deputy-chief-executive-of-energy-market-authority-11-06-2012-627
END:VEVENT

END:VCALENDAR
