BEGIN:VCALENDAR
VERSION:2.0
PRODID:-//ChamberMaster//Event Calendar 2.0//EN
METHOD:PUBLISH
X-PUBLISHED-TTL:P3D
REFRESH-INTERVAL:P3D
CALSCALE:GREGORIAN
BEGIN:VEVENT
DTSTART:20180206T030000Z
DTEND:20180206T040000Z
X-MICROSOFT-CDO-ALLDAYEVENT:FALSE
SUMMARY:Meeting with Bank Negara
DESCRIPTION:Please join us for a meeting with Bank Negara Deputy Governor Jessica Chew Cheng Lian. The purpose of the meeting is to follow up on concerns we raised regarding Bank Negara's exposure draft on outsourcing and interoperable credit transfer framework. Click here for our comments on the outsourcing guidelines and here for our comments on the ICTF. Both frameworks are expected to be finalized in the coming weeks. Click here for Deputy Governor Jessica's bio.
X-ALT-DESC;FMTTYPE=text/html:<span style="font-family:arial\,sans-serif\;"><span style="font-size:12.0pt\;">Please join us for a meeting with Bank Negara&nbsp\;Deputy Governor Jessica Chew Cheng Lian. The purpose of the meeting is to follow up on concerns we raised regarding Bank Negara&#39\;s&nbsp\;<a href="http://www.bnm.gov.my/index.php?ch=en_announcement&amp\;pg=en_announcement&amp\;ac=576">exposure draft on outsourcing</a> and <a href="https://urldefense.proofpoint.com/v2/url?u=http-3A__www.bnm.gov.my_index.php-3Fch-3Den-5Fannouncement-26pg-3Den-5Fannouncement-26ac-3D594&amp\;d=DwMCAw&amp\;c=uc5ZRXl8dGLM1RMQwf7xTCjRqXF0jmCF6SP0bDlmMmY&amp\;r=xlr-eqBVWxl_2LJvv41yxYDS6Y2TrRioLVVTQNL3MR0&amp\;m=aXx02144foVp7Fk5MCggTX_Z3rDecpA7LKHfvr7_Zfg&amp\;s=uzTkxe3qp8HumjW0c7afzRRawOZBS_mye0_1BcoXfz4&amp\;e=">interoperable credit transfer framework</a>. Click here for <a href="http://chambermaster.blob.core.windows.net/userfiles/UserFiles/chambers/9078/File/2017_TELMIN_Mission/US-ASEANCommentsontheBNMOutsourcingGuidelines.pdf">our comments on the outsourcing guidelines</a> and <a href="https://chambermaster.blob.core.windows.net/userfiles/UserFiles/chambers/9078/File/Malaysia/2018/USABCSubmission_BNM-ITCF.pdf">here for our comments on the ICTF</a>.&nbsp\;Both frameworks are expected to be finalized in the coming weeks.&nbsp\;<a href="http://www.bnm.gov.my/index.php?ch=en_press&amp\;pg=en_press&amp\;ac=4554">Click here for Deputy Governor Jessica&#39\;s bio.</a></span></span>
LOCATION:Bunga Tanjung Meeting Room\, 18A Bank Negara Malaysia Jalan Dat' Onn 50480 Kuala Lumpur
UID:e.9078.6465
SEQUENCE:3
DTSTAMP:20260419T164721Z
URL:http://usasean.memberzone.com/events/details/meeting-with-bank-negara-6465
END:VEVENT

END:VCALENDAR
