BEGIN:VCALENDAR
VERSION:2.0
PRODID:-//ChamberMaster//Event Calendar 2.0//EN
METHOD:PUBLISH
X-PUBLISHED-TTL:P3D
REFRESH-INTERVAL:P3D
CALSCALE:GREGORIAN
BEGIN:VEVENT
DTSTART;VALUE=DATE:20120919
DTEND;VALUE=DATE:20120920
TRANSP:TRANSPARENT
X-MICROSOFT-CDO-ALLDAYEVENT:TRUE
SUMMARY:Meeting with Australian Foreign Policy Experts - Sep 19 2012
DESCRIPTION:
X-ALT-DESC;FMTTYPE=text/html:
LOCATION:
UID:e.9078.456
SEQUENCE:3
DTSTAMP:20260424T185614Z
URL:http://usasean.memberzone.com/events/details/meeting-with-australian-foreign-policy-experts-sep-19-2012-09-19-2012-456
END:VEVENT

END:VCALENDAR
