BEGIN:VCALENDAR
VERSION:2.0
PRODID:-//ChamberMaster//Event Calendar 2.0//EN
METHOD:PUBLISH
X-PUBLISHED-TTL:P3D
REFRESH-INTERVAL:P3D
CALSCALE:GREGORIAN
BEGIN:VEVENT
DTSTART;VALUE=DATE:20150114
DTEND;VALUE=DATE:20150115
TRANSP:TRANSPARENT
X-MICROSOFT-CDO-ALLDAYEVENT:TRUE
SUMMARY:Meeting to Prepare for the GST Roundtable | Jan. 14\, 2015
DESCRIPTION:In preparation for the January 28 meeting with the Ministry of Finance and Royal Malaysian Customs Department\, the Council is organizing a preparatory meeting to unify messaging on the forthcoming Goods and Services Tax (GST). The meeting will be hosted by Wong & Partners and take place in their offices (address above). We encourage members that plan to attend the roundtable on the 28th to join this discussion. Please come prepared with input and concerns. If you are unable to attend\, but would like to submit concerns please send your interventions to Colette Morgan (cmorgan@usasean.org) and Ezani Mansor (emansor@usasean.org) by COB January 13.\n\n\n\nPlease find two client alerts from Wong & Partners on the GST below:\n\n\n	Highlights of the GST Act 2014 \n	GST Zero-rated and Exempt Supplies \n\n\n\nTo join by phone\, please use the following call-in coordinates.\n\nToll-free dial-in number (U.S. and Canada):\n\n+1 (877) 505-1427\n\n \n\nInternational dial-in number:\n\n+1 (281) 319-9194\n\n\n\nSingapore Toll-Free (+65):\n\n8001011755 \n\n\n\nConference code: \n\n6853245105
X-ALT-DESC;FMTTYPE=text/html:<br />\n<span style="font-family:arial\,sans-serif\;">In preparation for the&nbsp\;<u><a href="http://usasean.chambermaster.com/events/details/roundtable-on-malaysia-s-goods-and-services-tax-gst-with-mof-and-customs-department-1340"><span style="color:#0000FF\;">January 28 meeting with the Ministry of Finance and Royal Malaysian Customs Department</span></a></u>\, the Council is organizing a preparatory&nbsp\;meeting to unify messaging on the forthcoming Goods and Services Tax (GST). The meeting will be hosted by Wong &amp\; Partners and take place in their offices (address above). We encourage members that plan to attend the roundtable on the&nbsp\;28th&nbsp\;to join this discussion. Please come&nbsp\;prepared with input and concerns. If you are unable to attend\, but would like to submit concerns please send your interventions to Colette Morgan (<u><a href="mailto:emansor@usasean.org\;%20cmorgan@usasean.org"><span style="color:#0000FF\;">cmorgan@usasean.org</span></a></u>) and Ezani Mansor (<u><a href="mailto:emansor@usasean.org\;%20cmorgan@usasean.org"><span style="color:#0000FF\;">emansor@usasean.org</span></a></u>) by COB January 13.<br />\n<br />\nPlease find two client alerts from Wong &amp\; Partners on the GST below:</span>\n\n<ol>\n	<li><u><span style="font-family:arial\,sans-serif\;"><a href="http://cloud.chambermaster.com/userfiles/UserFiles/chambers/9078/File/Malaysia/2015/114_GST_Prep_Meeting/ClientAlert-HighlightsoftheGSTAct2014.pdf"><span style="color:#0000FF\;">Highlights of the GST Act 2014</span></a><span style="color:#0000FF\;"> </span></span></u></li>\n	<li><u><span style="font-family:arial\,sans-serif\;"><a href="http://cloud.chambermaster.com/userfiles/UserFiles/chambers/9078/File/Malaysia/2015/114_GST_Prep_Meeting/ClientAlert-GSTZero-ratedandExemptSupplies.pdf"><span style="color:#0000FF\;">GST Zero-rated and Exempt Supplies</span></a><span style="color:#0000FF\;"> </span></span></u></li>\n</ol>\n<br />\n<strong>To join by phone\, please use the following call-in coordinates.</strong><br />\n<u>Toll-free dial-in number (U.S. and Canada):</u><br />\n+1&nbsp\;(877) 505-1427<br />\n&nbsp\;<br />\n<u>International dial-in number:</u><br />\n+1 (281) 319-9194<br />\n<br />\n<u>Singapore Toll-Free (+65):</u><br />\n8001011755&nbsp\;<br />\n<br />\n<u>Conference code:&nbsp\;</u><br />\n6853245105&nbsp\;<br />\n&nbsp\;
LOCATION:Wong & Partners Level 21\, The Gardens South Tower Mid Valley City Lingkaran Syed Putra Kuala Lumpur 59200 Malaysia
UID:e.9078.1347
SEQUENCE:3
DTSTAMP:20260419T205824Z
URL:http://usasean.memberzone.com/events/details/meeting-to-prepare-for-the-gst-roundtable-jan-14-2015-01-14-2015-1347
END:VEVENT

END:VCALENDAR
