BEGIN:VCALENDAR
VERSION:2.0
PRODID:-//ChamberMaster//Event Calendar 2.0//EN
METHOD:PUBLISH
X-PUBLISHED-TTL:P3D
REFRESH-INTERVAL:P3D
CALSCALE:GREGORIAN
BEGIN:VEVENT
DTSTART:20240124T010000Z
DTEND:20240124T020000Z
X-MICROSOFT-CDO-ALLDAYEVENT:FALSE
SUMMARY:Manoeuvring Base Erosion and Profit Shifting (BEPS) 2.0 Pillar 2
DESCRIPTION:Together with the Economic Development Board (EDB)\, Ernst & Young Singapore and the Canada-ASEAN Business Council\, the US-ASEAN Business Council is hosting a webinar that will provide valuable insights to help members navigate the complexities of BEPS 2.0 Pillar 2.
X-ALT-DESC;FMTTYPE=text/html:<span style="caret-color: rgb(51\, 51\, 51)\; font-size: 16px\;">Together with the Economic Development Board (EDB)\, Ernst &amp\; Young Singapore and the Canada-ASEAN Business Council\, the US-ASEAN Business Council is hosting a webinar that</span><span style="caret-color: rgb(51\, 51\, 51)\; font-size: 16px\;">&nbsp\;will provide valuable insights to help members navigate the complexities of</span><span style="caret-color: rgb(51\, 51\, 51)\; font-size: 16px\;">&nbsp\;</span><span style="caret-color: rgb(51\, 51\, 51)\; font-size: 16px\;">BEPS</span><span style="caret-color: rgb(51\, 51\, 51)\; font-size: 16px\;">&nbsp\;2.0 Pillar 2.</span>
LOCATION:Zoom webinar
UID:e.9078.9229
SEQUENCE:3
DTSTAMP:20260422T011127Z
URL:http://usasean.memberzone.com/events/details/manoeuvring-base-erosion-and-profit-shifting-beps-2-0-pillar-2-9229
END:VEVENT

END:VCALENDAR
