BEGIN:VCALENDAR
VERSION:2.0
PRODID:-//ChamberMaster//Event Calendar 2.0//EN
METHOD:PUBLISH
X-PUBLISHED-TTL:P3D
REFRESH-INTERVAL:P3D
CALSCALE:GREGORIAN
BEGIN:VEVENT
DTSTART:20130419T130000Z
DTEND:20130419T140000Z
X-MICROSOFT-CDO-ALLDAYEVENT:FALSE
SUMMARY:Manila Health and Life Sciences Working Group Meeting
DESCRIPTION:The Health and Life Sciences Working Group would like to hear your suggestions about topics and programs in the Philippines that would interest you in 2013. Join Carr Slayton\, Co-Manager of the HLS Working Group\, for a planning meeting in Manila.
X-ALT-DESC;FMTTYPE=text/html:<span style="color:#000000\;"><span style="font-size: 14px\;"><span style="font-family: times new roman\;">The Health and Life Sciences Working Group would like to hear your suggestions about topics and programs in the Philippines that would interest you in 2013. Join Carr Slayton\, Co-Manager of the HLS Working Group\, for a planning meeting in Manila.</span></span></span>
LOCATION:USABC Philippines Office 1100 88 Corporate Center Sede o cor. Valero Streets Salcedo Village\, Makati City 1227
UID:e.9078.748
SEQUENCE:3
DTSTAMP:20260422T023945Z
URL:http://usasean.memberzone.com/events/details/manila-health-and-life-sciences-working-group-meeting-04-19-2013-748
END:VEVENT

END:VCALENDAR
