BEGIN:VCALENDAR
VERSION:2.0
PRODID:-//ChamberMaster//Event Calendar 2.0//EN
METHOD:PUBLISH
X-PUBLISHED-TTL:P3D
REFRESH-INTERVAL:P3D
CALSCALE:GREGORIAN
BEGIN:VEVENT
DTSTART:20140414T113000Z
DTEND:20140414T170000Z
X-MICROSOFT-CDO-ALLDAYEVENT:FALSE
SUMMARY:Managing Risk in ASEAN: Opportunities and Challenges
DESCRIPTION:The US-ASEAN Business Council and the American Indonesian Chamber of Commerce are pleased to present "Managing Risk in ASEAN: Opportunities and Challenges\," a half-day conference followed by a private lunch for sponsors featuring exclusive commentary from VIP panelists.  Participants will receive nuanced analyses of the political and economic risks to be considered when devising business and investment strategies in ASEAN.  Panelists will give particular focus to Indonesia and Thailand.\n\nA continental breakfast will be served from 7:30 to 8:00am.  An opening speaker and three panels will follow from 8:00 until 11:00am.  The private lunch will conclude the program. An updated proposed agenda is available here.
X-ALT-DESC;FMTTYPE=text/html:<span style="font-size:12px\;"><span style="font-family: arial\, sans-serif\; line-height: 24px\;">The US-ASEAN Business Council and the American Indonesian Chamber of Commerce are pleased to present &quot\;Managing Risk in ASEAN: Opportunities and Challenges\,&quot\; a half-day conference followed by a private lunch for sponsors&nbsp\;featuring exclusive commentary from&nbsp\;VIP panelists. &nbsp\;Participants will receive nuanced analyses of the political and economic risks to be considered when devising business and investment strategies in ASEAN. &nbsp\;Panelists will give particular focus to Indonesia and Thailand.<br />\nA continental breakfast will be served from 7:30 to 8:00am. &nbsp\;An opening speaker and three panels will follow from 8:00 until 11:00am. &nbsp\;The private lunch will conclude the program. An updated proposed agenda is available <a href="http://cloud.chambermaster.com/userfiles/UserFiles/chambers/9078/File/RiskinASEANAgenda7.pdf"><strong>here</strong></a>.</span></span>
LOCATION:The Yale Club 50 Vanderbilt Ave New York\, NY
UID:e.9078.1094
SEQUENCE:3
DTSTAMP:20260420T174214Z
URL:http://usasean.memberzone.com/events/details/managing-risk-in-asean-opportunities-and-challenges-04-14-2014-1094
END:VEVENT

END:VCALENDAR
