BEGIN:VCALENDAR
VERSION:2.0
PRODID:-//ChamberMaster//Event Calendar 2.0//EN
METHOD:PUBLISH
X-PUBLISHED-TTL:P3D
REFRESH-INTERVAL:P3D
CALSCALE:GREGORIAN
BEGIN:VEVENT
DTSTART:20180320T170000Z
DTEND:20180320T180000Z
X-MICROSOFT-CDO-ALLDAYEVENT:FALSE
SUMMARY:Managing Commercial Risk: What to Expect & How to Control Disputes in Southeast Asia
DESCRIPTION:Herbert Smith Freehills and the US-ASEAN BUsiness Council\, together with the ACC-Northeast chapter\, invite you to an event featuring guidance and case studies from specialists with more than 50 years of combined experience in the region covering the 10 ASEAN nations:  Brunei\, Cambodia\, Indonesia\, Laos\, Malaysia\, Myanmar\, Philippines\, Singapore\, Thailand and Vietnam.
X-ALT-DESC;FMTTYPE=text/html:Herbert Smith Freehills and the US-ASEAN BUsiness Council\, together with the ACC-Northeast chapter\, invite you to an event featuring guidance and case studies from specialists with more than 50 years of combined experience in the region covering the 10 ASEAN nations:&nbsp\; Brunei\, Cambodia\, Indonesia\, Laos\, Malaysia\, Myanmar\, Philippines\, Singapore\, Thailand and Vietnam.
LOCATION:Webinar
UID:e.9078.6490
SEQUENCE:3
DTSTAMP:20260419T184552Z
URL:http://usasean.memberzone.com/events/details/managing-commercial-risk-what-to-expect-how-to-control-disputes-in-southeast-asia-6490
END:VEVENT

END:VCALENDAR
