BEGIN:VCALENDAR
VERSION:2.0
PRODID:-//ChamberMaster//Event Calendar 2.0//EN
METHOD:PUBLISH
X-PUBLISHED-TTL:P3D
REFRESH-INTERVAL:P3D
CALSCALE:GREGORIAN
BEGIN:VEVENT
DTSTART:20200903T130000Z
DTEND:20200903T140000Z
X-MICROSOFT-CDO-ALLDAYEVENT:FALSE
SUMMARY:Malaysia Mission Planning Call #1 with Briefing by Dr. Ong
DESCRIPTION:
X-ALT-DESC;FMTTYPE=text/html:
LOCATION:
UID:e.9078.8281
SEQUENCE:3
DTSTAMP:20260424T061645Z
URL:http://usasean.memberzone.com/events/details/malaysia-mission-planning-call-1-with-briefing-by-dr-ong-8281
END:VEVENT

END:VCALENDAR
