BEGIN:VCALENDAR
VERSION:2.0
PRODID:-//ChamberMaster//Event Calendar 2.0//EN
METHOD:PUBLISH
X-PUBLISHED-TTL:P3D
REFRESH-INTERVAL:P3D
CALSCALE:GREGORIAN
BEGIN:VEVENT
DTSTART:20140305T020000Z
DTEND:20140305T030000Z
X-MICROSOFT-CDO-ALLDAYEVENT:FALSE
SUMMARY:Malaysia Committee Quarterly Call | March 4/5
DESCRIPTION:Please join us to discuss the Malaysia Committee's messaging\, priorities\, and programs for 2014.  A copy of the draft 2014 Work Plan can be found here.\n\n\n\nCall In Details:\n\nToll-free dial-in number (U.S. and Canada):\n\n(877) 505-1427\n\n \n\nInternational dial-in number:\n\n(281) 319-9194\n\n \n\nConference code: \n\n6853245105
X-ALT-DESC;FMTTYPE=text/html:<span style="font-family:arial\,sans-serif\;"><span style="font-size:12.0pt\;">Please join us to discuss the Malaysia Committee&#39\;s messaging\, priorities\, and programs for 2014.&nbsp\; A copy of the draft 2014 Work Plan can be found <a href="http://cloud.chambermaster.com/userfiles/UserFiles/chambers/9078/File/Malaysia/2014/2014MalaysiaWorkPlan.docx"><strong>here</strong></a>.</span></span><br />\n<br />\n<strong style="font-family: arial\;"><u><span style="font-size: 12pt\; line-height: 18.399999618530273px\;">Call In Details:</span></u></strong><br style="font-family: arial\;" />\n<span style="font-family: arial\; font-size: 12pt\; line-height: 18.399999618530273px\;"><strong>Toll-free dial-in number (U.S. and Canada):</strong><br />\n(877) 505-1427<br />\n&nbsp\;<br />\n<strong>International dial-in number:</strong><br />\n(281) 319-9194<br />\n&nbsp\;<br />\n<strong>Conference code:&nbsp\;</strong><br />\n6853245105</span>
LOCATION:
UID:e.9078.1057
SEQUENCE:3
DTSTAMP:20260420T155033Z
URL:http://usasean.memberzone.com/events/details/malaysia-committee-quarterly-call-march-4-5-03-04-2014-1057
END:VEVENT

END:VCALENDAR
