BEGIN:VCALENDAR
VERSION:2.0
PRODID:-//ChamberMaster//Event Calendar 2.0//EN
METHOD:PUBLISH
X-PUBLISHED-TTL:P3D
REFRESH-INTERVAL:P3D
CALSCALE:GREGORIAN
BEGIN:VEVENT
DTSTART:20130129T173000Z
DTEND:20130129T190000Z
X-MICROSOFT-CDO-ALLDAYEVENT:FALSE
SUMMARY:Luncheon with Jeffrey L. Gren\, U.S. Department of Commerce Director of the Office of Health and Consumer Goods
DESCRIPTION:Mr. Gren will present an overview of the U.S. government?s priorities for medical devices and pharmaceuticals and also share his insights on international\, regional and Indonesia-specific issues related to these products.
X-ALT-DESC;FMTTYPE=text/html:<span style="font-family:arial\;"><span style="font-size: 14px\;">Mr. Gren will present an overview of the U.S. government?s priorities for medical devices and pharmaceuticals and also share his insights on international\, regional and Indonesia-specific issues related to these products.</span></span>
LOCATION:To provide enhanced security\, we will provide location information once you register.
UID:e.9078.690
SEQUENCE:3
DTSTAMP:20260422T095456Z
URL:http://usasean.memberzone.com/events/details/luncheon-with-jeffrey-l-gren-u-s-department-of-commerce-director-of-the-office-of-health-and-consumer-goods-01-29-2013-690
END:VEVENT

END:VCALENDAR
