BEGIN:VCALENDAR
VERSION:2.0
PRODID:-//ChamberMaster//Event Calendar 2.0//EN
METHOD:PUBLISH
X-PUBLISHED-TTL:P3D
REFRESH-INTERVAL:P3D
CALSCALE:GREGORIAN
BEGIN:VEVENT
DTSTART:20180528T050000Z
DTEND:20180528T070000Z
X-MICROSOFT-CDO-ALLDAYEVENT:FALSE
SUMMARY:Luncheon with CODEL Walden in Jakarta
DESCRIPTION:Greg Walden\, the Chairman of the House Energy and Commerce Committee\, is leading a Congressional delegation to Jakarta. He is accompanied by: \n\n\n\nMembers (Seniority Order)\n\n	      Chairman Greg Walden (R-OR-2)      \n	      Ranking Frank Pallone\, Jr. (D-NJ-06)\n	      Rep Fred Upton (R-MI-6)\n	       Rep Gene Green (D-TX-29)\n	      Rep John Shimkus (R-IL-15\n	      Rep Billy Long (R-MO-7)\n	      Rep Bill Flores (R-TX-17)\n	      Rep Buddy Carter (R-GA-1)
X-ALT-DESC;FMTTYPE=text/html:Greg Walden\, the Chairman of the House Energy and Commerce Committee\, is leading a Congressional delegation to Jakarta. He is accompanied by:&nbsp\;<br />\n<br />\n<u>Members (Seniority Order)</u>\n<ol>\n	<li style="margin-top:5.0pt\;margin-right:0in\;margin-bottom:0in\;margin-bottom:.0001pt\;">&nbsp\;&nbsp\;&nbsp\;&nbsp\;&nbsp\; Chairman Greg Walden (R-OR-2)&nbsp\;&nbsp\;&nbsp\;&nbsp\;&nbsp\;&nbsp\;</li>\n	<li style="margin-top:5.0pt\;margin-right:0in\;margin-bottom:0in\;margin-bottom:.0001pt\;">&nbsp\;&nbsp\;&nbsp\;&nbsp\;&nbsp\; Ranking Frank Pallone\, Jr. (D-NJ-06)</li>\n	<li style="margin-top:5.0pt\;margin-right:0in\;margin-bottom:0in\;margin-bottom:.0001pt\;">&nbsp\;&nbsp\;&nbsp\;&nbsp\;&nbsp\; Rep Fred Upton (R-MI-6)</li>\n	<li style="margin-top:5.0pt\;margin-right:0in\;margin-bottom:0in\;margin-bottom:.0001pt\;">&nbsp\;&nbsp\;&nbsp\;&nbsp\;&nbsp\; &nbsp\;Rep Gene Green (D-TX-29)</li>\n	<li style="margin-top:5.0pt\;margin-right:0in\;margin-bottom:0in\;margin-bottom:.0001pt\;">&nbsp\;&nbsp\;&nbsp\;&nbsp\;&nbsp\; Rep John Shimkus (R-IL-15</li>\n	<li style="margin-top:5.0pt\;margin-right:0in\;margin-bottom:0in\;margin-bottom:.0001pt\;">&nbsp\;&nbsp\;&nbsp\;&nbsp\;&nbsp\; Rep Billy Long (R-MO-7)</li>\n	<li style="margin-top:5.0pt\;margin-right:0in\;margin-bottom:0in\;margin-bottom:.0001pt\;">&nbsp\;&nbsp\;&nbsp\;&nbsp\;&nbsp\; Rep Bill Flores (R-TX-17)</li>\n	<li style="margin-top:5.0pt\;margin-right:0in\;margin-bottom:0in\;margin-bottom:.0001pt\;">&nbsp\;&nbsp\;&nbsp\;&nbsp\;&nbsp\; Rep Buddy Carter (R-GA-1)</li>\n</ol>\n
LOCATION:C's Restaurant Grand Hyatt Jakarta Jl. M. H. Thamrin Kav. 28-30 Jakarta 10350 Indonesia
UID:e.9078.6564
SEQUENCE:3
DTSTAMP:20260419T220236Z
URL:http://usasean.memberzone.com/events/details/luncheon-with-codel-walden-in-jakarta-6564
END:VEVENT

END:VCALENDAR
