BEGIN:VCALENDAR
VERSION:2.0
PRODID:-//ChamberMaster//Event Calendar 2.0//EN
METHOD:PUBLISH
X-PUBLISHED-TTL:P3D
REFRESH-INTERVAL:P3D
CALSCALE:GREGORIAN
BEGIN:VEVENT
DTSTART:20140228T050000Z
DTEND:20140228T190000Z
X-MICROSOFT-CDO-ALLDAYEVENT:FALSE
SUMMARY:Luncheon Roundtable with US Ambassador Kristie Kenney
DESCRIPTION:As a key component of the Council's regular engagement with the US Embassy\, Ambassador Kenney has graciously accepted our invitation to discuss recent elections and its implications over lunch \n\n\n\nLuncheon hosted by Chevron and Dow Chemical\n\nAttendees : Chevron\, Dow \, ACE \, AIG \, Caterpillar\, Citi \, FedEx\, Ford\, GE \, GM\, Google\, GSK \, Guardian \, Merck\,  Pfizer\, Visa
X-ALT-DESC;FMTTYPE=text/html:<span style="font-size:14px\;"><span style="font-family:arial\;"><span style="border:none windowtext 1.0pt\;padding:0in\;"><span style="color:#444444\;">As a key component of the Council&rsquo\;s regular engagement with the US Embassy\, Ambassador Kenney has graciously accepted our invitation to discuss recent elections and its implications over lunch&nbsp\;<br />\n<br />\nLuncheon hosted by Chevron and Dow Chemical<br />\nAttendee</span></span><span style="border:none windowtext 1.0pt\;padding:0in\;"><span style="color:#1F497D\;">s</span></span><span style="border:none windowtext 1.0pt\;padding:0in\;"><span style="color:#444444\;"> : Chevron\, Dow \, ACE \, AIG \, Caterpillar\, Citi \, FedEx\, Ford\, GE \, GM\, Google\, GSK \, Guardian \, Merck\, &nbsp\;Pfizer\, Visa</span></span><br />\n&nbsp\;&nbsp\;</span></span><br />\n&nbsp\;
LOCATION:Decanter Room\, 12th Floor St Regis Hotel\, Rachadamri Road\, Bangkok
UID:e.9078.1070
SEQUENCE:3
DTSTAMP:20260421T023207Z
URL:http://usasean.memberzone.com/events/details/luncheon-roundtable-with-us-ambassador-kristie-kenney-02-28-2014-1070
END:VEVENT

END:VCALENDAR
