BEGIN:VCALENDAR
VERSION:2.0
PRODID:-//ChamberMaster//Event Calendar 2.0//EN
METHOD:PUBLISH
X-PUBLISHED-TTL:P3D
REFRESH-INTERVAL:P3D
CALSCALE:GREGORIAN
BEGIN:VEVENT
DTSTART:20140506T160000Z
DTEND:20140506T173000Z
X-MICROSOFT-CDO-ALLDAYEVENT:FALSE
SUMMARY:Luncheon Roundtable with DG Songsak Saichuea\, MFA\, Thailand
DESCRIPTION:The US-ASEAN Business Council and the U.S. Chamber of Commerce are pleased to invite you to a\n		\n		\n			Luncheon Roundtable \n\n			with \n\n			\n\n			Mr. Songsak Saichuea\n\n			Director General\, Department of American and South Pacific Affairs\, Ministry of Foreign Affairs\, Thailand\n		\n		\n			Tuesday\, May 6\, 2014\n\n			12.00pm - 1.30pm\n\n			\n\n			Generously hosted by: \n\n			\n\n			Chevron\n\n			1401 I Street\, NW\, Suite 1200\n\n			Washington\, DC\n		\n		\n			Please respond before COB Monday\, May 5\, 2014\n		\n		\n			Please join us for a luncheon discussion with Mr. Songsak Saichuea\, Director General\, Department of American and South Pacific Affairs\, Ministry of Foreign Affairs\, and his delegation. Director General Songsak will be visiting Washington\, D.C. to meet with U.S. government counterparts regarding Thailand's ranking in the State Department's annual "Trafficking in Persons" report.\n\n			\n\n			Our discussion with the Director General will focus on U.S. - Thailand relations and an exchange of views on trade and investment. This will also be a great opportunity for members to meet with high level officials from the Ministry of Labour and Ministry of Commerce. \n\n			\n\n			Please click here to view the latest delegation list. \n\n			\n\n			For DG Songsak Saichuea's bio\, please click here. \n\n			\n\n			For more information\, please contact Carr Slayton at cslayton@usasean.org.
X-ALT-DESC;FMTTYPE=text/html:<table align="center" border="0" cellpadding="0" cellspacing="0" style="width: 650px\;" width="650">\n	<tbody>\n		<tr>\n			<td style="padding: 7.5pt 0in 0in\;"><span style="letter-spacing: 0.75pt\;"><span style="font-family: georgia\,serif\;">The US-ASEAN Business Council and the U.S. Chamber of Commerce are pleased to invite you to a</span></span></td>\n		</tr>\n		<tr>\n			<td style="padding: 15pt 0in\;"><strong><span style="letter-spacing: 0.75pt\;"><span style="font-family: georgia\,serif\;"><span style="font-size: 16pt\;">Luncheon Roundtable&nbsp\;</span></span></span></strong><br />\n			<strong><span style="letter-spacing: 0.75pt\;"><span style="font-family: georgia\,serif\;"><span style="font-size: 13.5pt\;">with</span></span></span></strong><strong><span style="letter-spacing: 0.75pt\;"><span style="font-family: georgia\,serif\;"><span style="font-size: 16pt\;">&nbsp\;<br />\n			<br />\n			Mr. Songsak Saichuea</span></span></span></strong><br />\n			<strong><span style="letter-spacing: 0.75pt\;"><span style="font-family: georgia\,serif\;"><span style="font-size: 13.5pt\;">Director General\, Department of American and South Pacific Affairs\, Ministry of Foreign Affairs\, Thailand</span></span></span></strong></td>\n		</tr>\n		<tr>\n			<td style="padding: 0in\;"><span style="font-family: georgia\,serif\;">Tuesday\, May 6\, 2014<br />\n			12.00pm - 1.30pm<br />\n			<br />\n			Generously hosted by:&nbsp\;<br />\n			<br />\n			Chevron<br />\n			1401 I Street\, NW\, Suite 1200<br />\n			Washington\, DC</span></td>\n		</tr>\n		<tr>\n			<td style="padding: 7.5pt 0in\;"><span style="font-family: georgia\,serif\;">Please respond before COB Monday\, May 5\, 2014</span></td>\n		</tr>\n		<tr>\n			<td style="padding: 0in\;"><span style="font-family: arial\,sans-serif\;">Please join us for a luncheon discussion with Mr. Songsak Saichuea\, Director General\, Department of American and South Pacific Affairs\, Ministry of Foreign Affairs\, and his delegation. Director General Songsak will be visiting Washington\, D.C. to meet with U.S. government counterparts regarding Thailand&#39\;s ranking in the State Department&#39\;s annual &quot\;Trafficking in Persons&quot\; report.<br />\n			<br />\n			Our discussion with the Director General will focus on U.S. - Thailand relations and an exchange of views on trade and investment. This will also be a great opportunity for members to meet with high level officials from the Ministry of Labour and Ministry of Commerce.&nbsp\;<br />\n			<br />\n			Please <a href="http://cloud.chambermaster.com/userfiles/UserFiles/chambers/9078/File/ThaiDelegationApril2014.docx">click here</a> to view the latest delegation list.&nbsp\;<br />\n			<br />\n			For DG Songsak Saichuea&#39\;s bio\, please click here.&nbsp\;<br />\n			<br />\n			For more information\, please contact Carr Slayton at <a href="mailto:cslayton@usasean.org">cslayton@usasean.org</a>.&nbsp\;<br />\n			&nbsp\;</span></td>\n		</tr>\n	</tbody>\n</table>\n\n<div style="clear: both\;">&nbsp\;</div>\n
LOCATION:
UID:e.9078.1136
SEQUENCE:3
DTSTAMP:20260420T125553Z
URL:http://usasean.memberzone.com/events/details/luncheon-roundtable-with-dg-songsak-saichuea-mfa-thailand-05-06-2014-1136
END:VEVENT

END:VCALENDAR
