BEGIN:VCALENDAR
VERSION:2.0
PRODID:-//ChamberMaster//Event Calendar 2.0//EN
METHOD:PUBLISH
X-PUBLISHED-TTL:P3D
REFRESH-INTERVAL:P3D
CALSCALE:GREGORIAN
BEGIN:VEVENT
DTSTART:20230713T050000Z
DTEND:20230713T063000Z
X-MICROSOFT-CDO-ALLDAYEVENT:FALSE
SUMMARY:Luncheon Discussion with Robert F. Godec\, U.S. Ambassador to Thailand
DESCRIPTION:On Thursday\, 13th July 2023\, US-ASEAN Business Council held a Luncheon Discussion with Robert F. Godec\, U.S. Ambassador to Thailand.
X-ALT-DESC;FMTTYPE=text/html:<span style="color:black\;"><span style="font-family:calibri\,sans-serif\;"><span style="font-size:11.0pt\;">On Thursday\, 13th July 2023\, US-ASEAN Business Council held a </span></span></span><span style="font-family:calibri\,sans-serif\;"><span style="font-size:11.0pt\;">Luncheon Discussion with Robert F. Godec\, U.S. Ambassador to Thailand.&nbsp\;</span></span>
LOCATION:St Regis Hotel\, Rajadamri Rd\, Bangkok.
UID:e.9078.9073
SEQUENCE:3
DTSTAMP:20260421T124921Z
URL:http://usasean.memberzone.com/events/details/luncheon-discussion-with-robert-f-godec-u-s-ambassador-to-thailand-9073
END:VEVENT

END:VCALENDAR
