BEGIN:VCALENDAR
VERSION:2.0
PRODID:-//ChamberMaster//Event Calendar 2.0//EN
METHOD:PUBLISH
X-PUBLISHED-TTL:P3D
REFRESH-INTERVAL:P3D
CALSCALE:GREGORIAN
BEGIN:VEVENT
DTSTART:20140624T160000Z
DTEND:20140624T173000Z
X-MICROSOFT-CDO-ALLDAYEVENT:FALSE
SUMMARY:Luncheon discussion with DG Songsak Saicheua
DESCRIPTION:USABC would like to invite you to an exclusive luncheon briefing by Director General Songsak Saicheua of the Department of the Americas\, Ministry of Foreign Affairs. DG Songsak will share with us the road-map of the NCPO on the interim administration following the coup d'etat of 22nd May\, and discuss its impact on Thai-US relations\, commercial and otherwise. It will be a great opportunity for Council members to seek guidance on how best to engage the current appointed administration before a return to an elected government\, which may not be in place till 2016.\n\n\n\nLuncheon hosted by Chevron\, Chair of the Thailand Committee\n\nAttendees: AIG\, APCO\, Bank of America Merrill Lynch\, Caterpillar\, Chevron\, Citi\, Coca Cola\, Dow\, Emerson\, Ford\, GM\, Google\, GSK\, Guardian\, Microsoft\, Pwc\, Pfizer\, Phillip Morris\,
X-ALT-DESC;FMTTYPE=text/html:USABC would like to invite you to an exclusive luncheon briefing by Director General Songsak Saicheua of the Department of the Americas\, Ministry of Foreign Affairs. DG Songsak will share with us the road-map of the NCPO on the interim administration following the coup d&rsquo\;etat of 22nd May\, and discuss its impact on Thai-US relations\, commercial and otherwise. It will be a great opportunity for Council members to seek guidance on how best to engage the current appointed administration before a return to an elected government\, which may not be in place till 2016.<br />\n<br />\nLuncheon hosted by Chevron\, Chair of the Thailand Committee<br />\nAttendees: AIG\, APCO\, Bank of America Merrill Lynch\, Caterpillar\, Chevron\, Citi\, Coca Cola\, Dow\, Emerson\, Ford\, GM\, Google\, GSK\, Guardian\, Microsoft\, Pwc\, Pfizer\, Phillip Morris\,&nbsp\;
LOCATION:Decanter Room\, 12th Floor\, The St Regis Hotel\, Rachadamri Road\, Bangkok\, Thailand
UID:e.9078.1179
SEQUENCE:3
DTSTAMP:20260420T105128Z
URL:http://usasean.memberzone.com/events/details/luncheon-discussion-with-dg-songsak-saicheua-06-24-2014-1179
END:VEVENT

END:VCALENDAR
