BEGIN:VCALENDAR
VERSION:2.0
PRODID:-//ChamberMaster//Event Calendar 2.0//EN
METHOD:PUBLISH
X-PUBLISHED-TTL:P3D
REFRESH-INTERVAL:P3D
CALSCALE:GREGORIAN
BEGIN:VEVENT
DTSTART:20141209T170000Z
DTEND:20141209T183000Z
X-MICROSOFT-CDO-ALLDAYEVENT:FALSE
SUMMARY:Luncheon Discussion with Charge d'Affaires Mr Patrick Murphy
DESCRIPTION:USABC would like to invite you to an informal discussion with Mr Patrick Murphy\, the newly appointed Charge d'Affaires at the US Embassy. As we bade farewell to the much admired Ambassador Kenney earlier this  month\, Patrick has kindly offered to share his views on the priorities of the Embassy under his leadership\, and his perspectives on engagement with the government.\n\n\n\nLuncheon hosted by Coca-Cola\, Vice-Chair of the Thailand Committee\n\nAttendees: AIG\, ACE\, Baxter\, Caterpillar\, Cigna\, Citi\, Chevron\, Coca-Cola\, Diageo\, Dow\, FedEx\, Ford\, GM\, GSK\, Guardian\, Microsoft\, Pfizer\, Philip Morris Thailand\, Seagate
X-ALT-DESC;FMTTYPE=text/html:USABC would like to invite you to an informal discussion with Mr Patrick Murphy\, the newly appointed Charge d&rsquo\;Affaires at the US Embassy.&nbsp\;As we bade farewell to the much admired Ambassador Kenney earlier this&nbsp\; month\, Patrick has kindly offered to share his views on the priorities of the Embassy under his leadership\, and his perspectives on engagement with the government.<br />\n<br />\nLuncheon hosted by Coca-Cola\, Vice-Chair of the Thailand Committee<br />\nAttendees: AIG\,&nbsp\;ACE\, Baxter\, Caterpillar\, Cigna\,&nbsp\;Citi\, Chevron\, Coca-Cola\, Diageo\, Dow\, FedEx\, Ford\, GM\, GSK\, Guardian\, Microsoft\, Pfizer\, Philip Morris Thailand\, Seagate &nbsp\; &nbsp\; &nbsp\; &nbsp\; &nbsp\; &nbsp\; &nbsp\; &nbsp\; &nbsp\; &nbsp\; &nbsp\; &nbsp\; &nbsp\; &nbsp\; &nbsp\; &nbsp\; &nbsp\; &nbsp\; &nbsp\; &nbsp\; &nbsp\; &nbsp\; &nbsp\; &nbsp\;
LOCATION:Decanter Room\, 12th Floor\, The St Regis Hotel\, Rachadamri Road\, Bangkok\, Thailand
UID:e.9078.1328
SEQUENCE:3
DTSTAMP:20260419T222533Z
URL:http://usasean.memberzone.com/events/details/luncheon-discussion-with-charge-d-affaires-mr-patrick-murphy-12-09-2014-1328
END:VEVENT

END:VCALENDAR
