BEGIN:VCALENDAR
VERSION:2.0
PRODID:-//ChamberMaster//Event Calendar 2.0//EN
METHOD:PUBLISH
X-PUBLISHED-TTL:P3D
REFRESH-INTERVAL:P3D
CALSCALE:GREGORIAN
BEGIN:VEVENT
DTSTART:20140611T160000Z
DTEND:20140611T173000Z
X-MICROSOFT-CDO-ALLDAYEVENT:FALSE
SUMMARY:Luncheon discussion on Vietnam with Vu Tu Thanh
DESCRIPTION:We are delighted to invite you to an off-the-record discussion on Vietnam with Mr Vu from the USABC Hanoi Office. It is a rare privilege for us to hear first hand from our leading expert on the current situation in Vietnam.\n\n\n\nLuncheon hosted by AIG\, Vice-Chair of the Thailand Committee\n\nAttendees: AIG\, Chevron\, Citi\, Dow\, Emerson\, Ford\, GM\, Guardian\, IBM\,
X-ALT-DESC;FMTTYPE=text/html:We are delighted to invite you to an off-the-record discussion on Vietnam with Mr Vu from the USABC Hanoi Office. It is a rare privilege for us to hear first hand from our leading expert on the current situation in Vietnam.<br />\n<br />\nLuncheon hosted by AIG\, Vice-Chair of the Thailand Committee<br />\nAttendees: AIG\, Chevron\,&nbsp\;Citi\, Dow\, Emerson\, Ford\, GM\, Guardian\, IBM\,&nbsp\;
LOCATION:Small Private Room\, Tables Restaurant\, Grand Hyatt Erawan Hotel\, Rajadamri Rd\, Bangkok
UID:e.9078.1172
SEQUENCE:3
DTSTAMP:20260420T105147Z
URL:http://usasean.memberzone.com/events/details/luncheon-discussion-on-vietnam-with-vu-tu-thanh-06-11-2014-1172
END:VEVENT

END:VCALENDAR
