BEGIN:VCALENDAR
VERSION:2.0
PRODID:-//ChamberMaster//Event Calendar 2.0//EN
METHOD:PUBLISH
X-PUBLISHED-TTL:P3D
REFRESH-INTERVAL:P3D
CALSCALE:GREGORIAN
BEGIN:VEVENT
DTSTART:20140710T160000Z
DTEND:20140710T173000Z
X-MICROSOFT-CDO-ALLDAYEVENT:FALSE
SUMMARY:Luncheon briefing with US Ambassador Kristie Kenney
DESCRIPTION:In the Council's first formal engagement with the US Embassy following the military take-over of national administration on 22nd May\, it gives me great pleasure to invite you to an exclusive briefing with Ambassador Kenney. The Ambassador will share her thoughts on Thai-US relations going forward\, and its impact on trade and investments. She would also like to hear feedback from US businesses on their plans ahead before the Kingdom returns to elected democracy.\n\n\n\nHosted by Coca-Cola\, Vice-Chair of the Thailand Committee\n\nAttendee : US Ambassador\, US Commercial Counselor\, US Econ Attach \, ACE\, AIG\, Caterpillar\, Citi\,  Chevron\, Dow \, Dupont\, Emerson\, FedEx\, Ford\, Google\, GE\, GM\, GSK\, Guardian\, Lilly\, Microsoft\, Philip Morris\, Pwc \, Visa
X-ALT-DESC;FMTTYPE=text/html:In the Council&rsquo\;s first formal engagement with the US Embassy following the military take-over of national administration on 22<sup>nd</sup> May\, it gives me great pleasure to invite you to an exclusive briefing with Ambassador Kenney. The Ambassador will share her thoughts on Thai-US relations going forward\, and its impact on trade and investments. She would also like to hear feedback from US businesses on their plans ahead before the Kingdom returns to elected democracy.<br />\n<br />\nHosted by Coca-Cola\, Vice-Chair of the Thailand Committee<br />\nAttendee :&nbsp\;US Ambassador\, US Commercial Counselor\, US Econ Attach&eacute\;\, ACE\, AIG\, Caterpillar\, Citi\, &nbsp\;Chevron\, Dow \, Dupont\, Emerson\, FedEx\, Ford\, Google\, GE\, GM\, GSK\, Guardian\, Lilly\, Microsoft\, Philip Morris\, Pwc \, Visa&nbsp\;<br />\n<br />\n&nbsp\;
LOCATION:Decanter Room\, 12th Floor\, St Regis Hotel\, Rachadamri Road\, Bangkok
UID:e.9078.1203
SEQUENCE:3
DTSTAMP:20260420T073036Z
URL:http://usasean.memberzone.com/events/details/luncheon-briefing-with-us-ambassador-kristie-kenney-07-10-2014-1203
END:VEVENT

END:VCALENDAR
