BEGIN:VCALENDAR
VERSION:2.0
PRODID:-//ChamberMaster//Event Calendar 2.0//EN
METHOD:PUBLISH
X-PUBLISHED-TTL:P3D
REFRESH-INTERVAL:P3D
CALSCALE:GREGORIAN
BEGIN:VEVENT
DTSTART:20230921T160000Z
DTEND:20230921T173000Z
X-MICROSOFT-CDO-ALLDAYEVENT:FALSE
SUMMARY:Luncheon and Business Forum with Vietnam Prime Minister Pham Minh Chinh
DESCRIPTION:Luncheon and Business Forum with Vietnam Prime Minister Pham Minh Chinh\n\n\n\nCo-hosted by the US-ASEAN Business Council\, U.S. Chamber of Commerce\, and Business Council for International Understanding.
X-ALT-DESC;FMTTYPE=text/html:Luncheon and Business Forum with Vietnam Prime Minister Pham Minh Chinh<br />\n<br />\nCo-hosted by the US-ASEAN Business Council\, U.S. Chamber of Commerce\, and Business Council for International Understanding.
LOCATION:
UID:e.9078.9150
SEQUENCE:3
DTSTAMP:20260421T193537Z
URL:http://usasean.memberzone.com/events/details/luncheon-and-business-forum-with-vietnam-prime-minister-pham-minh-chinh-9150
END:VEVENT

END:VCALENDAR
