BEGIN:VCALENDAR
VERSION:2.0
PRODID:-//ChamberMaster//Event Calendar 2.0//EN
METHOD:PUBLISH
X-PUBLISHED-TTL:P3D
REFRESH-INTERVAL:P3D
CALSCALE:GREGORIAN
BEGIN:VEVENT
DTSTART:20190924T063000Z
DTEND:20190924T093000Z
X-MICROSOFT-CDO-ALLDAYEVENT:FALSE
SUMMARY:Launch of Digital Health Whitepaper
DESCRIPTION:Launch of Digital Health Whitepaper\n\nReaching 650 million: How digital technology is key to achieving universal health coverage in ASEAN
X-ALT-DESC;FMTTYPE=text/html:<span style="font-size:16px\;"><span style="font-family:arial\;">Launch of Digital Health Whitepaper<br />\nReaching 650 million: How digital technology is key to achieving universal health coverage in ASEAN</span></span>
LOCATION:Cisco Systems (USA) Pte. Ltd. Bldg 80\, Lvl 25\, Mapletree Biz City 80 Pasir Panjang Road Singapore 117372
UID:e.9078.8025
SEQUENCE:3
DTSTAMP:20260424T212100Z
URL:http://usasean.memberzone.com/events/details/launch-of-digital-health-whitepaper-8025
END:VEVENT

END:VCALENDAR
