BEGIN:VCALENDAR
VERSION:2.0
PRODID:-//ChamberMaster//Event Calendar 2.0//EN
METHOD:PUBLISH
X-PUBLISHED-TTL:P3D
REFRESH-INTERVAL:P3D
CALSCALE:GREGORIAN
BEGIN:VEVENT
DTSTART:20220111T003000Z
DTEND:20220111T020000Z
X-MICROSOFT-CDO-ALLDAYEVENT:FALSE
SUMMARY:Joint Cyber Security Working Group Meeting (Singapore)
DESCRIPTION:Join us for the first virtual Joint Cyber Security Working Group (JCSWG) meeting of 2022 for updates on cybersecurity issues and policies.\n\n \n\nA joint initiative between the U.S. Embassy Singapore\, Cyber Security Agency of Singapore - CSA\, The American Chamber of Commerce in Singapore\, BSA The Software Alliance and US-ASEAN Business Council\, the JCSWG is a platform for the private sector to engage the Singapore Government in an attempt to build a lasting framework for public-private partnerships in the cyber realm.\n\n \nThis JCSWG meeting will include updates from CSA as well as a robust panel session on multi-stakeholder cybersecurity partnerships.
X-ALT-DESC;FMTTYPE=text/html:<p style="text-align:justify\;text-justify:inter-ideograph\;&#10\;line-height:150%"><span style="font-size:16px\;"><span style="font-family:arial\;"><span style="line-height: 150%\;">Join us for the first virtual Joint Cyber Security Working Group (JCSWG) meeting of 2022 for updates on cybersecurity issues and policies.</span></span></span></p>\n\n<p style="text-align:justify\;text-justify:inter-ideograph\;&#10\;line-height:150%"><span style="font-size:16px\;"><span style="font-family:arial\;"><span style="line-height: 150%\;">&nbsp\;</span></span></span></p>\n\n<p style="text-align:justify\;text-justify:inter-ideograph\;&#10\;line-height:150%"><span style="font-size:16px\;"><span style="font-family:arial\;"><span style="line-height: 150%\;">A joint initiative between the U.S. Embassy Singapore\, Cyber Security Agency of Singapore - CSA\, The American Chamber of Commerce in Singapore\, BSA The Software Alliance and US-ASEAN Business Council\, the JCSWG is a platform for the private sector to engage the Singapore Government in an attempt to build a lasting framework for public-private partnerships in the cyber realm.</span></span></span></p>\n\n<p style="text-align:justify\;text-justify:inter-ideograph\;&#10\;line-height:150%"><span style="font-size:16px\;"><span style="font-family:arial\;"><span style="line-height: 150%\;">&nbsp\;</span></span></span></p>\n<span style="font-size:16px\;"><span style="font-family:arial\;"><span style="line-height: 107%\;">This JCSWG meeting will include updates from CSA as well as a robust panel session on multi-stakeholder cybersecurity partnerships. </span></span></span>
LOCATION:Virtual\, Webex
UID:e.9078.8653
SEQUENCE:3
DTSTAMP:20260422T234848Z
URL:http://usasean.memberzone.com/events/details/joint-cyber-security-working-group-meeting-singapore-8653
END:VEVENT

END:VCALENDAR
