BEGIN:VCALENDAR
VERSION:2.0
PRODID:-//ChamberMaster//Event Calendar 2.0//EN
METHOD:PUBLISH
X-PUBLISHED-TTL:P3D
REFRESH-INTERVAL:P3D
CALSCALE:GREGORIAN
BEGIN:VEVENT
DTSTART:20130425T180000Z
DTEND:20130425T190000Z
X-MICROSOFT-CDO-ALLDAYEVENT:FALSE
SUMMARY:Jakarta Pharma/Medtech Meeting
DESCRIPTION:The U.S. Commercial Service\, in conjunction with the HLS Working Group and AmCham Indonesia\, will hold a meeting to discuss key industry issues in Indonesia.
X-ALT-DESC;FMTTYPE=text/html:The U.S. Commercial Service\, in conjunction with the HLS Working Group and&nbsp\;AmCham Indonesia\, will hold a meeting to discuss key industry issues in Indonesia.
LOCATION:U.S. Commercial Service Office Wisma Metropolitan II\, 3rd Floor Jl. Jendral Sudirman Kav. 29-31 Jakarta 12920\, Indonesia
UID:e.9078.749
SEQUENCE:3
DTSTAMP:20260422T023844Z
URL:http://usasean.memberzone.com/events/details/jakarta-pharma-medtech-meeting-04-25-2013-749
END:VEVENT

END:VCALENDAR
