BEGIN:VCALENDAR
VERSION:2.0
PRODID:-//ChamberMaster//Event Calendar 2.0//EN
METHOD:PUBLISH
X-PUBLISHED-TTL:P3D
REFRESH-INTERVAL:P3D
CALSCALE:GREGORIAN
BEGIN:VEVENT
DTSTART:20240626T153000Z
DTEND:20240626T163000Z
X-MICROSOFT-CDO-ALLDAYEVENT:FALSE
SUMMARY:IPEF Briefing by Commerce Chief Negotiator Sharon H. Yuan
DESCRIPTION:US-ABC IPEF Briefing by Commerce IPEF Chief Negotiator Sharon H. Yuan\n\nShort Bio: https://www.trade.gov/biography/sharon-h-yuan\n\nPlease join us for a virtual briefing on the Indo-Pacific Economic Framework.  Members are encouraged to participate in view of the recent outcomes post-IPEF Ministerial in Singapore on 6 June 2024. This is an opportunity for Global Trade teams to share and reiterate recommendations in view of Federal Register Request for Comments on Commerce Supply Chain Risk Assessment and IPEF Supply Chains.
X-ALT-DESC;FMTTYPE=text/html:US-ABC IPEF Briefing by<a href="https://www.trade.gov/biography/sharon-h-yuan"> Commerce IPEF Chief Negotiator Sharon H. Yuan</a><br />\nShort Bio:&nbsp\;https://www.trade.gov/biography/sharon-h-yuan<br />\n<span style="font-weight: 700\; letter-spacing: 1px\; text-align: center\; font-size: 14px\;"><span style="font-family: arial\;"><span style="background-color: rgb(255\, 255\, 0)\;">Please join us for a virtual briefing on the Indo-Pacific Economic Framework.&nbsp\; Members are encouraged to participate in view of the recent outcomes&nbsp\;</span></span></span><span style="font-weight: 700\; letter-spacing: 1px\; text-align: center\; font-family: arial\; font-size: 14px\; background-color: rgb(255\, 255\, 0)\;">post-IPEF Ministerial in Singapore on 6 June 2024. This is an opportunity for Global Trade teams to share and reiterate recommendations in view of&nbsp\;<a href="https://www.federalregister.gov/documents/2024/06/03/2024-12240/request-for-comments-on-commerce-supply-chain-risk-assessment-and-ipef-supply-chains">Federal Register Request for Comments on Commerce Supply Chain Risk Assessment and IPEF Supply Chains.</a></span>
LOCATION:Virtual briefing over Zoom Zoom Call details will be provided upon registration
UID:e.9078.9319
SEQUENCE:3
DTSTAMP:20260422T104617Z
URL:http://usasean.memberzone.com/events/details/ipef-briefing-by-commerce-chief-negotiator-sharon-h-yuan-9319
END:VEVENT

END:VCALENDAR
