BEGIN:VCALENDAR
VERSION:2.0
PRODID:-//ChamberMaster//Event Calendar 2.0//EN
METHOD:PUBLISH
X-PUBLISHED-TTL:P3D
REFRESH-INTERVAL:P3D
CALSCALE:GREGORIAN
BEGIN:VEVENT
DTSTART;VALUE=DATE:20111202
DTEND;VALUE=DATE:20111203
TRANSP:TRANSPARENT
X-MICROSOFT-CDO-ALLDAYEVENT:TRUE
SUMMARY:Invitation: Welcome & Farewell Lunch for Political and Economic Counselors\, Vietnam Embassy | Washington\, Dec. 2 - Dec 2 2011
DESCRIPTION:
X-ALT-DESC;FMTTYPE=text/html:
LOCATION:
UID:e.9078.433
SEQUENCE:3
DTSTAMP:20260425T111221Z
URL:http://usasean.memberzone.com/events/details/invitation-welcome-farewell-lunch-for-political-and-economic-counselors-vietnam-embassy-washington-dec-2-dec-2-2011-12-02-2011-433
END:VEVENT

END:VCALENDAR
