BEGIN:VCALENDAR
VERSION:2.0
PRODID:-//ChamberMaster//Event Calendar 2.0//EN
METHOD:PUBLISH
X-PUBLISHED-TTL:P3D
REFRESH-INTERVAL:P3D
CALSCALE:GREGORIAN
BEGIN:VEVENT
DTSTART;VALUE=DATE:20120426
DTEND;VALUE=DATE:20120427
TRANSP:TRANSPARENT
X-MICROSOFT-CDO-ALLDAYEVENT:TRUE
SUMMARY:Invitation to a Special Speech by USTR Ron Kirk - April 26\, 9:45 a.m. at SMU - Apr 26 2012
DESCRIPTION:
X-ALT-DESC;FMTTYPE=text/html:
LOCATION:
UID:e.9078.417
SEQUENCE:3
DTSTAMP:20260425T023808Z
URL:http://usasean.memberzone.com/events/details/invitation-to-a-special-speech-by-ustr-ron-kirk-april-26-9-45-a-m-at-smu-apr-26-2012-04-26-2012-417
END:VEVENT

END:VCALENDAR
