BEGIN:VCALENDAR
VERSION:2.0
PRODID:-//ChamberMaster//Event Calendar 2.0//EN
METHOD:PUBLISH
X-PUBLISHED-TTL:P3D
REFRESH-INTERVAL:P3D
CALSCALE:GREGORIAN
BEGIN:VEVENT
DTSTART;VALUE=DATE:20120910
DTEND;VALUE=DATE:20120911
TRANSP:TRANSPARENT
X-MICROSOFT-CDO-ALLDAYEVENT:TRUE
SUMMARY:Invitation: Roundtable Discussion on Business Associations and Government Relations in Parliamentary Systems | Sept. 10 | DC - Sep 10 2012
DESCRIPTION:
X-ALT-DESC;FMTTYPE=text/html:
LOCATION:
UID:e.9078.429
SEQUENCE:3
DTSTAMP:20260424T185741Z
URL:http://usasean.memberzone.com/events/details/invitation-roundtable-discussion-on-business-associations-and-government-relations-in-parliamentary-systems-sept-10-dc-sep-10-2012-09-10-2012-429
END:VEVENT

END:VCALENDAR
