BEGIN:VCALENDAR
VERSION:2.0
PRODID:-//ChamberMaster//Event Calendar 2.0//EN
METHOD:PUBLISH
X-PUBLISHED-TTL:P3D
REFRESH-INTERVAL:P3D
CALSCALE:GREGORIAN
BEGIN:VEVENT
DTSTART;VALUE=DATE:20120601
DTEND;VALUE=DATE:20120602
TRANSP:TRANSPARENT
X-MICROSOFT-CDO-ALLDAYEVENT:TRUE
SUMMARY:Invitation: Roundtable and Dinner with H.E. Nguyen Thi Kim Tien\, MOH Vietnam\, June 1\, Cambridge\, MA - Jun 1 2012
DESCRIPTION:
X-ALT-DESC;FMTTYPE=text/html:
LOCATION:
UID:e.9078.428
SEQUENCE:3
DTSTAMP:20260424T231620Z
URL:http://usasean.memberzone.com/events/details/invitation-roundtable-and-dinner-with-h-e-nguyen-thi-kim-tien-moh-vietnam-june-1-cambridge-ma-jun-1-2012-06-01-2012-428
END:VEVENT

END:VCALENDAR
