BEGIN:VCALENDAR
VERSION:2.0
PRODID:-//ChamberMaster//Event Calendar 2.0//EN
METHOD:PUBLISH
X-PUBLISHED-TTL:P3D
REFRESH-INTERVAL:P3D
CALSCALE:GREGORIAN
BEGIN:VEVENT
DTSTART:20130611T221500Z
DTEND:20130611T233000Z
X-MICROSOFT-CDO-ALLDAYEVENT:FALSE
SUMMARY:INVITATION: Reception with Myanmar Members of Parliament
DESCRIPTION:Reception with Myanmar Members of Parliament\n\n\n\nGenerously hosted by\n\nThe Coca-Cola Company
X-ALT-DESC;FMTTYPE=text/html:<span style="color: rgb(51\, 51\, 51)\; font-family: georgia\, serif\; font-weight: bold\; letter-spacing: 1px\; text-align: center\; font-size: 22px\;"><strong><span style="letter-spacing: 0.75pt\;"><span style="font-family: arial\, sans-serif\;">Reception with Myanmar Members of Parliament</span></span></strong></span><br style="color: rgb(51\, 51\, 51)\; font-family: georgia\, serif\; font-weight: bold\; letter-spacing: 1px\; text-align: center\;" />\n<br style="color: rgb(51\, 51\, 51)\; font-family: georgia\, serif\; font-weight: bold\; letter-spacing: 1px\; text-align: center\;" />\n<em style="color: rgb(51\, 51\, 51)\; font-family: georgia\, serif\; font-weight: bold\; letter-spacing: 1px\; text-align: center\; font-size: 16pt\;"><strong><span style="letter-spacing: 0.75pt\;"><span style="font-size: 12pt\;">Generously hosted by</span></span></strong></em><br style="color: rgb(51\, 51\, 51)\; font-family: georgia\, serif\; font-weight: bold\; letter-spacing: 1px\; text-align: center\;" />\n<span style="color: rgb(51\, 51\, 51)\; font-family: georgia\, serif\; font-weight: bold\; letter-spacing: 1px\; text-align: center\; font-size: 20px\;"><i>The Coca-Cola Company</i></span><br />\n<br />\n<br style="font-family: georgia\, serif\; font-size: 16px\; text-align: center\;" />\n<br />\n
LOCATION:The Coca-Cola Company 800 Connecticut Avenue\, NW\, Suite 711 Washington\, D.C. 20006
UID:e.9078.806
SEQUENCE:3
DTSTAMP:20260421T210254Z
URL:http://usasean.memberzone.com/events/details/invitation-reception-with-myanmar-members-of-parliament-06-11-2013-806
END:VEVENT

END:VCALENDAR
