BEGIN:VCALENDAR
VERSION:2.0
PRODID:-//ChamberMaster//Event Calendar 2.0//EN
METHOD:PUBLISH
X-PUBLISHED-TTL:P3D
REFRESH-INTERVAL:P3D
CALSCALE:GREGORIAN
BEGIN:VEVENT
DTSTART:20140425T130000Z
DTEND:20140425T160000Z
X-MICROSOFT-CDO-ALLDAYEVENT:FALSE
SUMMARY:INVITATION: Forum on Good Agricultural Practices (GAP) and Opportunity for Cooperation
DESCRIPTION:Vietnam Embassy Forum\n\n			on\n\n			Good Agricultural Practices (GAP) and\n\n			Opportunity for Cooperation\n		\n		\n			April 25\, 2014\n\n			9:00am - 12:00pm\n\n			\n\n			Vietnam House\n\n			2251 R Street\, NW\n\n			Washington\, DC 20008
X-ALT-DESC;FMTTYPE=text/html:<table align="center" border="0" cellpadding="0" cellspacing="0" style="width:650px\;" width="650">\n	<tbody>\n		<tr>\n			<td style="padding:15.0pt 0in 15.0pt 0in\;"><strong><span style="letter-spacing:0.75pt\;"><span style="font-family:georgia\,serif\;"><span style="font-size:16pt\;">Vietnam Embassy Forum<br />\n			on<br />\n			Good Agricultural Practices (GAP) and<br />\n			Opportunity for Cooperation</span></span></span></strong></td>\n		</tr>\n		<tr>\n			<td style="padding:0in 0in 0in 0in\;"><span style="font-family:georgia\,serif\;">April 25\, 2014<br />\n			9:00am - 12:00pm<br />\n			<br />\n			Vietnam House<br />\n			2251 R Street\, NW<br />\n			Washington\, DC 20008</span></td>\n		</tr>\n	</tbody>\n</table>\n\n<div style="clear:both\;">&nbsp\;</div>\n
LOCATION:
UID:e.9078.1127
SEQUENCE:3
DTSTAMP:20260420T155016Z
URL:http://usasean.memberzone.com/events/details/invitation-forum-on-good-agricultural-practices-gap-and-opportunity-for-cooperation-04-25-2014-1127
END:VEVENT

END:VCALENDAR
